BEGIN:VCALENDAR
VERSION:2.0
PRODID:GlueUp
CALSCALE:GREGORIAN
BEGIN:VTIMEZONE
TZID:UTC
BEGIN:STANDARD
DTSTART:19700101T000000
TZOFFSETFROM:+0000
TZOFFSETTO:+0000
TZNAME:UTC
END:STANDARD
END:VTIMEZONE
BEGIN:VEVENT
TZ:+00
ORGANIZER;CN=CAGES CAGES:MAILTO:info@cages.cn
UID:32474-1777131819@https://app.glueup.cn
DTSTAMP:20260425T154339Z
DTSTART:20210618T120000Z
DTEND:20210618T190000Z
SUMMARY:EURO 2020 - June 18, 21:00 - June 19, 03:00 Games
DESCRIPTION:EURO 2020 - June 18, 21:00 - June 19, 03:00 Games by Cages Bar & Sports Shanghai\n\nJun 18 & 19, 2021(GMT+8)\n\nFor more information, click here: https://app.glueup.cn/my/events/32474
LOCATION:Cages Bar & Sports - 3F - Jing'An Sports Center - Jiang Ning Lu 428 - Jing'an - Shanghai Shanghai - Shanghai Shi - China
BEGIN:VALARM
TRIGGER:-PT48H
REPEAT:4
DURATION:PT30M
ACTION:DISPLAY
END:VALARM
END:VEVENT
END:VCALENDAR