BEGIN:VCALENDAR
VERSION:2.0
PRODID:GlueUp
CALSCALE:GREGORIAN
BEGIN:VTIMEZONE
TZID:UTC
BEGIN:STANDARD
DTSTART:19700101T000000
TZOFFSETFROM:+0000
TZOFFSETTO:+0000
TZNAME:UTC
END:STANDARD
END:VTIMEZONE
BEGIN:VEVENT
TZ:+00
ORGANIZER;CN=Elijah Odii:MAILTO:elijahodii16@fudan.edu.cn
UID:25745-1776990706@https://app.glueup.cn
DTSTAMP:20260424T003146Z
DTSTART:20200224T050000Z
DTEND:20200304T130000Z
SUMMARY:Empowerment Opportunities for Africans in China: OUTBREAK RESPONSE SERIES
DESCRIPTION:Empowerment Opportunities for Africans in China: OUTBREAK RESPONSE SERIES by Nigerians In Diaspora Organization (East China Chapter)\n\nFeb 24, 2020 to Mar 4, 2020(GMT+8)\n\nFor more information and to attend the online event, click here:\n\nEvent Website: https://app.glueup.cn/my/events/25745\n\nEvent Link: https://www.nidoeastchina.org
LOCATION:https://www.nidoeastchina.org
BEGIN:VALARM
TRIGGER:-PT1H
REPEAT:4
DURATION:PT15M
ACTION:DISPLAY
END:VALARM
END:VEVENT
END:VCALENDAR