BEGIN:VCALENDAR
VERSION:2.0
PRODID:GlueUp
CALSCALE:GREGORIAN
BEGIN:VTIMEZONE
TZID:UTC
BEGIN:STANDARD
DTSTART:19700101T000000
TZOFFSETFROM:+0000
TZOFFSETTO:+0000
TZNAME:UTC
END:STANDARD
END:VTIMEZONE
BEGIN:VEVENT
TZ:+00
ORGANIZER;CN=Sam Pu:MAILTO:sampu@britchamswchina.org
UID:47610-1776601978@https://app.glueup.cn
DTSTAMP:20260419T123258Z
DTSTART:20250625T070000Z
DTEND:20250625T090000Z
SUMMARY:Education Focus Group Roundtable: Navigating Higher Education Pathways
DESCRIPTION:Education Focus Group Roundtable: Navigating Higher Education Pathways by British Chamber of Commerce Southwest China\n\nJun 25, 2025 (3:00 PM - 5:00 PM)(GMT+8)\n\nFor more information, click here: https://app.glueup.cn/my/events/47610
LOCATION:TEC Chongqing Corporate Avenue Centre 德事商务中心企业天地会议中心 (Chongqing) - Floor 25 - Huasheng Rd. 1# - Yuzhong District - Chongqing  - 重庆市渝中区华盛路1号25层 Chongqing 重庆 - China
BEGIN:VALARM
TRIGGER:-PT48H
REPEAT:4
DURATION:PT30M
ACTION:DISPLAY
END:VALARM
END:VEVENT
END:VCALENDAR