BEGIN:VCALENDAR
VERSION:2.0
PRODID:GlueUp
CALSCALE:GREGORIAN
BEGIN:VTIMEZONE
TZID:UTC
BEGIN:STANDARD
DTSTART:19700101T000000
TZOFFSETFROM:+0000
TZOFFSETTO:+0000
TZNAME:UTC
END:STANDARD
END:VTIMEZONE
BEGIN:VEVENT
TZ:+00
ORGANIZER;CN=Felix Dike:MAILTO:dikeunn85@gmail.com
UID:25064-1776990085@https://app.glueup.cn
DTSTAMP:20260424T002125Z
DTSTART:20191210T133000Z
DTEND:20191210T143000Z
SUMMARY:E-Commerce defined
DESCRIPTION:E-Commerce defined by Nigerians In Diaspora Organization (East China Chapter)\n\nDec 10, 2019 (9:30 PM - 10:30 PM)(GMT+8)\n\nFor more information, click here: https://app.glueup.cn/my/events/25064
LOCATION:
BEGIN:VALARM
TRIGGER:-PT48H
REPEAT:4
DURATION:PT30M
ACTION:DISPLAY
END:VALARM
END:VEVENT
END:VCALENDAR