BEGIN:VCALENDAR
VERSION:2.0
PRODID:GlueUp
CALSCALE:GREGORIAN
BEGIN:VTIMEZONE
TZID:UTC
BEGIN:STANDARD
DTSTART:19700101T000000
TZOFFSETFROM:+0000
TZOFFSETTO:+0000
TZNAME:UTC
END:STANDARD
END:VTIMEZONE
BEGIN:VEVENT
TZ:+00
ORGANIZER;CN=Felix Dike:MAILTO:dikeunn85@gmail.com
UID:25548-1776990190@https://app.glueup.cn
DTSTAMP:20260424T002310Z
DTSTART:20200129T010000Z
DTEND:20200203T155500Z
SUMMARY:Database update for Nigerians in China
DESCRIPTION:Database update for Nigerians in China by Nigerians In Diaspora Organization (East China Chapter)\n\nJan 29, 2020 to Feb 3, 2020(GMT+8)\n\nFor more information, click here: https://app.glueup.cn/my/events/25548
LOCATION:
BEGIN:VALARM
TRIGGER:-PT48H
REPEAT:4
DURATION:PT30M
ACTION:DISPLAY
END:VALARM
END:VEVENT
END:VCALENDAR