BEGIN:VCALENDAR
VERSION:2.0
PRODID:GlueUp
CALSCALE:GREGORIAN
BEGIN:VTIMEZONE
TZID:UTC
BEGIN:STANDARD
DTSTART:19700101T000000
TZOFFSETFROM:+0000
TZOFFSETTO:+0000
TZNAME:UTC
END:STANDARD
END:VTIMEZONE
BEGIN:VEVENT
TZ:+00
ORGANIZER;CN=Felix Dike:MAILTO:dikeunn85@gmail.com
UID:25565-1776995499@https://app.glueup.cn
DTSTAMP:20260424T015139Z
DTSTART:20200207T010500Z
DTEND:20200306T160000Z
SUMMARY:Continued membership registration for Nigerians In East China
DESCRIPTION:Continued membership registration for Nigerians In East China by Nigerians In Diaspora Organization (East China Chapter)\n\nFeb 7, 2020 to Mar 7, 2020(GMT+8)\n\nFor more information, click here: https://app.glueup.cn/my/events/25565
LOCATION:
BEGIN:VALARM
TRIGGER:-PT48H
REPEAT:4
DURATION:PT30M
ACTION:DISPLAY
END:VALARM
END:VEVENT
END:VCALENDAR