BEGIN:VCALENDAR
VERSION:2.0
PRODID:GlueUp
CALSCALE:GREGORIAN
BEGIN:VTIMEZONE
TZID:UTC
BEGIN:STANDARD
DTSTART:19700101T000000
TZOFFSETFROM:+0000
TZOFFSETTO:+0000
TZNAME:UTC
END:STANDARD
END:VTIMEZONE
BEGIN:VEVENT
TZ:+00
ORGANIZER;CN=Admin ClarkMorgan:MAILTO:admin@clarkmorgan.com
UID:46011-1776604614@https://app.glueup.cn
DTSTAMP:20260419T131654Z
DTSTART:20250110T060000Z
DTEND:20250110T090000Z
SUMMARY:ClarkMorgan January Demo-Being Resilient Breakthrough Challenge with  B❒X®
DESCRIPTION:ClarkMorgan Ltd.发布活动ClarkMorgan January Demo-Being Resilient Breakthrough Challenge with  B❒X®\n\n2025年01月10日（14:00 - 17:00）(GMT+8)\n\n更多信息，访问https://app.glueup.cn/my/events/46011
LOCATION:上海浦东新区银城路88号 中国人寿金融中心57楼 - shanghai - 中国
BEGIN:VALARM
TRIGGER:-PT48H
REPEAT:4
DURATION:PT30M
ACTION:DISPLAY
END:VALARM
END:VEVENT
END:VCALENDAR