BEGIN:VCALENDAR
VERSION:2.0
PRODID:GlueUp
CALSCALE:GREGORIAN
BEGIN:VTIMEZONE
TZID:UTC
BEGIN:STANDARD
DTSTART:19700101T000000
TZOFFSETFROM:+0000
TZOFFSETTO:+0000
TZNAME:UTC
END:STANDARD
END:VTIMEZONE
BEGIN:VEVENT
TZ:+00
ORGANIZER;CN=Rae-Nyse Yeo:MAILTO:yeo.raenyse@wehustle.cn
UID:24031-1776688256@https://app.glueup.cn
DTSTAMP:20260420T123056Z
DTSTART:20191021T080000Z
DTEND:20191021T100000Z
SUMMARY:#chinapitch e-Commerce Track
DESCRIPTION:#chinapitch e-Commerce Track by weHustle\n\nOct 21, 2019 (4:00 PM - 6:00 PM)(GMT+8)\n\nFor more information, click here: https://app.glueup.cn/my/events/24031
LOCATION:InnoSpace YANGPU - 杨浦区政学路77号 - No.77 Zhengxue Road - Yangpu District Shanghai - China
BEGIN:VALARM
TRIGGER:-PT48H
REPEAT:4
DURATION:PT30M
ACTION:DISPLAY
END:VALARM
END:VEVENT
END:VCALENDAR