BEGIN:VCALENDAR
VERSION:2.0
PRODID:GlueUp
CALSCALE:GREGORIAN
BEGIN:VTIMEZONE
TZID:UTC
BEGIN:STANDARD
DTSTART:19700101T000000
TZOFFSETFROM:+0000
TZOFFSETTO:+0000
TZNAME:UTC
END:STANDARD
END:VTIMEZONE
BEGIN:VEVENT
TZ:+00
ORGANIZER;CN=SH Director Nina Kong:MAILTO:directors.cffc.sh@gmail.com
UID:30923-1777058198@https://app.glueup.cn
DTSTAMP:20260424T191638Z
DTSTART:20210417T113000Z
DTEND:20210417T155900Z
SUMMARY:CHIFAN FOR CHARITY SHANGHAI
DESCRIPTION:CHIFAN FOR CHARITY SHANGHAI by ChiFan For Charity\n\nApr 17, 2021 (7:30 PM - 11:59 PM)(GMT+8)\n\nFor more information, click here: https://app.glueup.cn/my/events/30923
LOCATION:
BEGIN:VALARM
TRIGGER:-PT48H
REPEAT:4
DURATION:PT30M
ACTION:DISPLAY
END:VALARM
END:VEVENT
END:VCALENDAR