BEGIN:VCALENDAR
VERSION:2.0
PRODID:GlueUp
CALSCALE:GREGORIAN
BEGIN:VTIMEZONE
TZID:UTC
BEGIN:STANDARD
DTSTART:19700101T000000
TZOFFSETFROM:+0000
TZOFFSETTO:+0000
TZNAME:UTC
END:STANDARD
END:VTIMEZONE
BEGIN:VEVENT
TZ:+00
ORGANIZER;CN=Sam Pu:MAILTO:sampu@britchamswchina.org
UID:49591-1776936126@https://app.glueup.cn
DTSTAMP:20260423T092206Z
DTSTART:20260305T010000Z
DTEND:20260305T040000Z
SUMMARY:British Business in China Sentiment Survey 2025 - 26 Launch Chengdu
DESCRIPTION:British Business in China Sentiment Survey 2025 - 26 Launch Chengdu by British Chamber of Commerce Southwest China\n\nMar 5, 2026 (9:00 AM - 12:00 PM)(GMT+8)\n\nFor more information, click here: https://app.glueup.cn/my/events/49591
LOCATION:Chengdu Conference Room, ICC Club Managed by TEC 成都环球贸易广场办公楼一期5楼 成都厅 - 5/F - One ICC Office Tower - Dongda Road - Jinjiang District - Chengdu  成都市锦江区东大路577号 Chengdu - Sichuan - China
BEGIN:VALARM
TRIGGER:-PT48H
REPEAT:4
DURATION:PT30M
ACTION:DISPLAY
END:VALARM
END:VEVENT
END:VCALENDAR