BEGIN:VCALENDAR
VERSION:2.0
PRODID:GlueUp
CALSCALE:GREGORIAN
BEGIN:VTIMEZONE
TZID:UTC
BEGIN:STANDARD
DTSTART:19700101T000000
TZOFFSETFROM:+0000
TZOFFSETTO:+0000
TZNAME:UTC
END:STANDARD
END:VTIMEZONE
BEGIN:VEVENT
TZ:+00
ORGANIZER;CN=Maddy Myott:MAILTO:maddy.myott@austcham.org
UID:29211-1777157664@https://app.glueup.cn
DTSTAMP:20260425T225424Z
DTSTART:20201226T030000Z
DTEND:20201225T160001Z
SUMMARY:Boxing Day Lunch
DESCRIPTION:Boxing Day Lunch by AustCham China\n\nDec 26, 2020 (11:00)(GMT+8)\n\nFor more information, click here: https://app.glueup.cn/my/events/29211
LOCATION:Grill 79 - 1 Jianguomen Outer St - Jian Wai Da Jie - Chaoyang - Beijing - China - 100004 - level 79 Beijing - China
BEGIN:VALARM
TRIGGER:-PT48H
REPEAT:4
DURATION:PT30M
ACTION:DISPLAY
END:VALARM
END:VEVENT
END:VCALENDAR