BEGIN:VCALENDAR
VERSION:2.0
PRODID:GlueUp
CALSCALE:GREGORIAN
BEGIN:VTIMEZONE
TZID:UTC
BEGIN:STANDARD
DTSTART:19700101T000000
TZOFFSETFROM:+0000
TZOFFSETTO:+0000
TZNAME:UTC
END:STANDARD
END:VTIMEZONE
BEGIN:VEVENT
TZ:+00
ORGANIZER;CN=Yiran Li:MAILTO:info@berlinoffice-china.com
UID:35132-1776866666@https://app.glueup.cn
DTSTAMP:20260422T140426Z
DTSTART:20220113T110000Z
DTEND:20220113T130000Z
SUMMARY:Berlin in China Meetup
DESCRIPTION:Berlin in China Meetup by Berlin Business Desk China\n\nJan 13, 2022 (19:00 - 21:00)(GMT+8)\n\nFor more information, click here: https://app.glueup.cn/my/events/35132
LOCATION:Genuine German - The 3rd Floor - No. 168 Jiujiang Road - Huangpu District Shanghai - China
BEGIN:VALARM
TRIGGER:-PT48H
REPEAT:4
DURATION:PT30M
ACTION:DISPLAY
END:VALARM
END:VEVENT
END:VCALENDAR