BEGIN:VCALENDAR
VERSION:2.0
PRODID:GlueUp
CALSCALE:GREGORIAN
BEGIN:VTIMEZONE
TZID:UTC
BEGIN:STANDARD
DTSTART:19700101T000000
TZOFFSETFROM:+0000
TZOFFSETTO:+0000
TZNAME:UTC
END:STANDARD
END:VTIMEZONE
BEGIN:VEVENT
TZ:+00
ORGANIZER;CN=Shane McCormack:MAILTO:irishball-beijing@outlook.com
UID:49386-1777137879@https://app.glueup.cn
DTSTAMP:20260425T172439Z
DTSTART:20260321T100000Z
DTEND:20260321T100000Z
SUMMARY:Beijing Irish Ball
DESCRIPTION:Beijing Irish Ball by Irish Ball\n\nMar 21, 2026 6:00 PM(GMT+8)\n\nFor more information, click here: https://app.glueup.cn/my/events/49386
LOCATION:Kempinski Hotel Beijing Yansha Center - No. 50 Liangmaqiao Road Beijing - China
BEGIN:VALARM
TRIGGER:-PT48H
REPEAT:4
DURATION:PT30M
ACTION:DISPLAY
END:VALARM
END:VEVENT
END:VCALENDAR