BEGIN:VCALENDAR
VERSION:2.0
PRODID:GlueUp
CALSCALE:GREGORIAN
BEGIN:VTIMEZONE
TZID:UTC
BEGIN:STANDARD
DTSTART:19700101T000000
TZOFFSETFROM:+0000
TZOFFSETTO:+0000
TZNAME:UTC
END:STANDARD
END:VTIMEZONE
BEGIN:VEVENT
TZ:+00
ORGANIZER;CN=AustCham South China:MAILTO:marketing.sc@austcham.org
UID:50234-1776747433@https://app.glueup.cn
DTSTAMP:20260421T045713Z
DTSTART:20260425T050000Z
DTEND:20260425T090000Z
SUMMARY:ANZAC Day AFL Match
DESCRIPTION:ANZAC Day AFL Match by AustCham China\n\nApr 25, 2026 (13:00 - 17:00)(GMT+8)\n\nFor more information, click here: https://app.glueup.cn/my/events/50234
LOCATION:Zhongying Football Field, Panyu, Guangzhou广州番禺中盈足球场 - Guangzhou - China
BEGIN:VALARM
TRIGGER:-PT48H
REPEAT:4
DURATION:PT30M
ACTION:DISPLAY
END:VALARM
END:VEVENT
END:VCALENDAR