BEGIN:VCALENDAR
VERSION:2.0
PRODID:GlueUp
CALSCALE:GREGORIAN
BEGIN:VTIMEZONE
TZID:UTC
BEGIN:STANDARD
DTSTART:19700101T000000
TZOFFSETFROM:+0000
TZOFFSETTO:+0000
TZNAME:UTC
END:STANDARD
END:VTIMEZONE
BEGIN:VEVENT
TZ:+00
ORGANIZER;CN=历莉:MAILTO:lil@daonong.com
UID:29103-1776801075@https://app.glueup.cn
DTSTAMP:20260421T195115Z
DTSTART:20201210T020000Z
DTEND:20201210T050000Z
SUMMARY:Ambassador Visits CEC | Xiaomi
DESCRIPTION:Ambassador Visits CEC | Xiaomi by China Entrepreneur Club\n\nDec 10, 2020 (10:00 - 13:00)(GMT+8)\n\nFor more information, click here: https://app.glueup.cn/my/events/29103
LOCATION:小米科技园 - 海淀区清河街道西二旗中路 33 号小米科技园 （东门） 北京市 - China
BEGIN:VALARM
TRIGGER:-PT48H
REPEAT:4
DURATION:PT30M
ACTION:DISPLAY
END:VALARM
END:VEVENT
END:VCALENDAR