BEGIN:VCALENDAR
VERSION:2.0
PRODID:GlueUp
CALSCALE:GREGORIAN
BEGIN:VTIMEZONE
TZID:UTC
BEGIN:STANDARD
DTSTART:19700101T000000
TZOFFSETFROM:+0000
TZOFFSETTO:+0000
TZNAME:UTC
END:STANDARD
END:VTIMEZONE
BEGIN:VEVENT
TZ:+00
ORGANIZER;CN=Adebisi Muslimat Kehinde:MAILTO:kennyades21@icloud.com
UID:27001-1776990317@https://app.glueup.cn
DTSTAMP:20260424T002517Z
DTSTART:20200610T000000Z
DTEND:20200610T020000Z
SUMMARY:AGRIC INVESTMENT SUMMIT PART 1
DESCRIPTION:AGRIC INVESTMENT SUMMIT PART 1 by Nigerians In Diaspora Organization (East China Chapter)\n\nJune 9, 2020\n7:00 PM - 9:00 PM(GMT-5)\n\nFor more information and to attend the online event, click here:\n\nEvent Website: https://app.glueup.cn/my/events/27001\n\nEvent Link: https://zoom.com.cn/j/171025700
LOCATION:https://zoom.com.cn/j/171025700
BEGIN:VALARM
TRIGGER:-PT1H
REPEAT:4
DURATION:PT15M
ACTION:DISPLAY
END:VALARM
END:VEVENT
END:VCALENDAR