BEGIN:VCALENDAR
VERSION:2.0
PRODID:GlueUp
CALSCALE:GREGORIAN
BEGIN:VTIMEZONE
TZID:UTC
BEGIN:STANDARD
DTSTART:19700101T000000
TZOFFSETFROM:+0000
TZOFFSETTO:+0000
TZNAME:UTC
END:STANDARD
END:VTIMEZONE
BEGIN:VEVENT
TZ:+00
ORGANIZER;CN=Madeleine Madeleine:MAILTO:maddy@jingjobs.com
UID:9960-1776800699@https://app.glueup.cn
DTSTAMP:20260421T194459Z
DTSTART:20170622T110000Z
DTEND:20170622T130000Z
SUMMARY:Dinner with Mentors
DESCRIPTION:Dinner with Mentors by JingJobs\n\nJun 22, 2017 (7:00 PM - 9:00 PM)(GMT+8)\n\nFor more information, click here: https://app.glueup.cn/my/events/9960
LOCATION:Home Grounds - 39-3 Xingfu Ercun - Chaoyang District - under Base Fit - behind Bentley & Rolls Royce Beijing - China
BEGIN:VALARM
TRIGGER:-PT48H
REPEAT:4
DURATION:PT30M
ACTION:DISPLAY
END:VALARM
END:VEVENT
END:VCALENDAR