BEGIN:VCALENDAR
VERSION:2.0
PRODID:GlueUp
CALSCALE:GREGORIAN
BEGIN:VTIMEZONE
TZID:UTC
BEGIN:STANDARD
DTSTART:19700101T000000
TZOFFSETFROM:+0000
TZOFFSETTO:+0000
TZNAME:UTC
END:STANDARD
END:VTIMEZONE
BEGIN:VEVENT
TZ:+00
ORGANIZER;CN=Madeleine Madeleine:MAILTO:maddy@jingjobs.com
UID:9317-1776800953@https://app.glueup.cn
DTSTAMP:20260421T194913Z
DTSTART:20170513T050000Z
DTEND:20170513T080000Z
SUMMARY:JingJobs 招聘会
DESCRIPTION:JingJobs发布活动JingJobs 招聘会\n\n2017年05月13日（13:00 - 16:00）(GMT+8)\n\n更多信息，访问https://app.glueup.cn/my/events/9317
LOCATION:WeWork 光华路 - 中国Beijing北京市 朝阳区 金铜西路 十号 远洋国际 AB座 7层
BEGIN:VALARM
TRIGGER:-PT48H
REPEAT:4
DURATION:PT30M
ACTION:DISPLAY
END:VALARM
END:VEVENT
END:VCALENDAR