BEGIN:VCALENDAR
VERSION:2.0
PRODID:GlueUp
CALSCALE:GREGORIAN
BEGIN:VTIMEZONE
TZID:UTC
BEGIN:STANDARD
DTSTART:19700101T000000
TZOFFSETFROM:+0000
TZOFFSETTO:+0000
TZNAME:UTC
END:STANDARD
END:VTIMEZONE
BEGIN:VEVENT
TZ:+00
ORGANIZER;CN=Lian Zhang:MAILTO:lian@shconnector.com
UID:8843-1777059381@https://app.glueup.cn
DTSTAMP:20260424T193621Z
DTSTART:20170414T103000Z
DTEND:20170414T140000Z
SUMMARY:Invitation: Bikini Show & A Mauritius Night
DESCRIPTION:Shconnector发布活动Invitation: Bikini Show & A Mauritius Night\n\n2017年04月14日（18:30 - 22:00）(GMT+8)\n\n更多信息，访问https://app.glueup.cn/my/events/8843
LOCATION:JW's Lounge - 40F 399 West Nanjing Road - Shanghai 上海 - 中国
BEGIN:VALARM
TRIGGER:-PT48H
REPEAT:4
DURATION:PT30M
ACTION:DISPLAY
END:VALARM
END:VEVENT
END:VCALENDAR