BEGIN:VCALENDAR
VERSION:2.0
PRODID:GlueUp
CALSCALE:GREGORIAN
BEGIN:VTIMEZONE
TZID:UTC
BEGIN:STANDARD
DTSTART:19700101T000000
TZOFFSETFROM:+0000
TZOFFSETTO:+0000
TZNAME:UTC
END:STANDARD
END:VTIMEZONE
BEGIN:VEVENT
TZ:+00
ORGANIZER;CN=Martha Wang:MAILTO:martha@shconnector.com
UID:7438-1777048174@https://app.glueup.cn
DTSTAMP:20260424T162934Z
DTSTART:20170131T200001Z
DTEND:20170429T200001Z
SUMMARY:毛里求斯安娜希塔6天5晚尊享高尔夫之旅
DESCRIPTION:Shconnector发布活动毛里求斯安娜希塔6天5晚尊享高尔夫之旅\n\n2017年02月01日 至 2017年04月30日(GMT+4)\n\n更多信息，访问https://app.glueup.cn/my/events/7438
LOCATION:Anahita The Resort - La Place Belgath - 弗拉克区
BEGIN:VALARM
TRIGGER:-PT48H
REPEAT:4
DURATION:PT30M
ACTION:DISPLAY
END:VALARM
END:VEVENT
END:VCALENDAR