BEGIN:VCALENDAR
VERSION:2.0
PRODID:GlueUp
CALSCALE:GREGORIAN
BEGIN:VTIMEZONE
TZID:UTC
BEGIN:STANDARD
DTSTART:19700101T000000
TZOFFSETFROM:+0000
TZOFFSETTO:+0000
TZNAME:UTC
END:STANDARD
END:VTIMEZONE
BEGIN:VEVENT
TZ:+00
ORGANIZER;CN=Martha Wang:MAILTO:martha@shconnector.com
UID:7435-1777059348@https://app.glueup.cn
DTSTAMP:20260424T193548Z
DTSTART:20170131T200001Z
DTEND:20170429T200001Z
SUMMARY:An enjoyable golf trip at the heart of a sunrise sanctuary
DESCRIPTION:An enjoyable golf trip at the heart of a sunrise sanctuary by Shconnector\n\nFeb 1, 2017 to Apr 30, 2017(GMT+4)\n\nFor more information, click here: https://app.glueup.cn/my/events/7435
LOCATION:ANAHITA THE RESORT - La Place Belgath - Flacq District
BEGIN:VALARM
TRIGGER:-PT48H
REPEAT:4
DURATION:PT30M
ACTION:DISPLAY
END:VALARM
END:VEVENT
END:VCALENDAR