BEGIN:VCALENDAR
VERSION:2.0
PRODID:GlueUp
CALSCALE:GREGORIAN
BEGIN:VTIMEZONE
TZID:UTC
BEGIN:STANDARD
DTSTART:19700101T000000
TZOFFSETFROM:+0000
TZOFFSETTO:+0000
TZNAME:UTC
END:STANDARD
END:VTIMEZONE
BEGIN:VEVENT
TZ:+00
ORGANIZER;CN=Justin Chan:MAILTO:justin@shconnector.com
UID:7077-1777064834@https://app.glueup.cn
DTSTAMP:20260424T210714Z
DTSTART:20161203T053000Z
DTEND:20161203T093000Z
SUMMARY:品鉴极致奢华生活
DESCRIPTION:Shconnector发布活动品鉴极致奢华生活\n\n2016年12月03日（13:30 - 17:30）(GMT+8)\n\n更多信息，访问https://app.glueup.cn/my/events/7077
LOCATION:LALIQUE法国莱俪之IFC旗舰店 - 中国上海中国上海上海世纪大道8号国金中心商城2期2层42店
BEGIN:VALARM
TRIGGER:-PT48H
REPEAT:4
DURATION:PT30M
ACTION:DISPLAY
END:VALARM
END:VEVENT
END:VCALENDAR