BEGIN:VCALENDAR
VERSION:2.0
PRODID:GlueUp
CALSCALE:GREGORIAN
BEGIN:VTIMEZONE
TZID:UTC
BEGIN:STANDARD
DTSTART:19700101T000000
TZOFFSETFROM:+0000
TZOFFSETTO:+0000
TZNAME:UTC
END:STANDARD
END:VTIMEZONE
BEGIN:VEVENT
TZ:+00
ORGANIZER;CN=Justin Chan:MAILTO:justin@shconnector.com
UID:7019-1777064435@https://app.glueup.cn
DTSTAMP:20260424T210035Z
DTSTART:20161203T053000Z
DTEND:20161203T093000Z
SUMMARY:Indulge in a Luxurious Lifestyle
DESCRIPTION:Indulge in a Luxurious Lifestyle by Shconnector\n\nDec 3, 2016 (1:30 PM - 5:30 PM)(GMT+8)\n\nFor more information, click here: https://app.glueup.cn/my/events/7019
LOCATION:LALIQUE IFC Flagship Store - 2-42 - IFC phase 2 - 8 Century Avenue Lujiazui Shanghai - China
BEGIN:VALARM
TRIGGER:-PT48H
REPEAT:4
DURATION:PT30M
ACTION:DISPLAY
END:VALARM
END:VEVENT
END:VCALENDAR