BEGIN:VCALENDAR
VERSION:2.0
PRODID:GlueUp
CALSCALE:GREGORIAN
BEGIN:VTIMEZONE
TZID:UTC
BEGIN:STANDARD
DTSTART:19700101T000000
TZOFFSETFROM:+0000
TZOFFSETTO:+0000
TZNAME:UTC
END:STANDARD
END:VTIMEZONE
BEGIN:VEVENT
TZ:+00
ORGANIZER;CN=Celine Kok:MAILTO:celine@shconnector.com
UID:6966-1777059345@https://app.glueup.cn
DTSTAMP:20260424T193545Z
DTSTART:20161124T160001Z
DTEND:20161124T160001Z
SUMMARY:Enjoy A Mauritius Night
DESCRIPTION:Enjoy A Mauritius Night by Shconnector\n\nNov 25, 2016(GMT+8)\n\nFor more information, click here: https://app.glueup.cn/my/events/6966
LOCATION:Favola Italian Restaurant on the 8th Floor of Le Royal Meridien Hotel - 789 Nanjing East Road Close to Xi Zang Middle Road Shanghai - China
BEGIN:VALARM
TRIGGER:-PT48H
REPEAT:4
DURATION:PT30M
ACTION:DISPLAY
END:VALARM
END:VEVENT
END:VCALENDAR