BEGIN:VCALENDAR
VERSION:2.0
PRODID:GlueUp
CALSCALE:GREGORIAN
BEGIN:VTIMEZONE
TZID:UTC
BEGIN:STANDARD
DTSTART:19700101T000000
TZOFFSETFROM:+0000
TZOFFSETTO:+0000
TZNAME:UTC
END:STANDARD
END:VTIMEZONE
BEGIN:VEVENT
TZ:+00
ORGANIZER;CN=Madeleine Madeleine:MAILTO:m.leine@hotmail.com
UID:6707-1776800717@https://app.glueup.cn
DTSTAMP:20260421T194517Z
DTSTART:20161023T060000Z
DTEND:20161023T080000Z
SUMMARY:Professional Glam
DESCRIPTION:Professional Glam by JingJobs\n\nOct 23, 2016 (2:00 PM - 4:00 PM)(GMT+8)\n\nFor more information, click here: https://app.glueup.cn/my/events/6707
LOCATION:MyDream+ - 北京市海淀区中关村鼎好电子大厦A座8层 北京 - China
BEGIN:VALARM
TRIGGER:-PT48H
REPEAT:4
DURATION:PT30M
ACTION:DISPLAY
END:VALARM
END:VEVENT
END:VCALENDAR