BEGIN:VCALENDAR
VERSION:2.0
PRODID:GlueUp
CALSCALE:GREGORIAN
BEGIN:VTIMEZONE
TZID:UTC
BEGIN:STANDARD
DTSTART:19700101T000000
TZOFFSETFROM:+0000
TZOFFSETTO:+0000
TZNAME:UTC
END:STANDARD
END:VTIMEZONE
BEGIN:VEVENT
TZ:+00
ORGANIZER;CN=Liwen Liu:MAILTO:events@shconnector.com
UID:6572-1777059347@https://app.glueup.cn
DTSTAMP:20260424T193547Z
DTSTART:20160925T020000Z
DTEND:20160925T050000Z
SUMMARY:Specialty Coffee Tasting + CJW Special Brunch | 精品咖啡品鉴＋CJW独家早午餐
DESCRIPTION:Specialty Coffee Tasting + CJW Special Brunch | 精品咖啡品鉴＋CJW独家早午餐 by Shconnector\n\nSep 25, 2016 (10:00 AM - 1:00 PM)(GMT+8)\n\nFor more information, click here: https://app.glueup.cn/my/events/6572
LOCATION:CJW Glass Room - Unit 4 - House 2 - Lane 123 Xingye Lu - Xintiandi - next to Haagen-Dazs | 新天地兴业路123弄2号4单元，哈根达斯旁边 Shanghai - China
BEGIN:VALARM
TRIGGER:-PT48H
REPEAT:4
DURATION:PT30M
ACTION:DISPLAY
END:VALARM
END:VEVENT
END:VCALENDAR