BEGIN:VCALENDAR
VERSION:2.0
PRODID:GlueUp
CALSCALE:GREGORIAN
BEGIN:VTIMEZONE
TZID:UTC
BEGIN:STANDARD
DTSTART:19700101T000000
TZOFFSETFROM:+0000
TZOFFSETTO:+0000
TZNAME:UTC
END:STANDARD
END:VTIMEZONE
BEGIN:VEVENT
TZ:+00
ORGANIZER;CN=Liwen Liu:MAILTO:events@shconnector.com
UID:6571-1777064435@https://app.glueup.cn
DTSTAMP:20260424T210035Z
DTSTART:20160923T100000Z
DTEND:20160923T140000Z
SUMMARY:Wine Tasting & Mövenpick Ice Cream Night | 红酒品尝暨莫凡彼冰淇淋之夜
DESCRIPTION:Wine Tasting & Mövenpick Ice Cream Night | 红酒品尝暨莫凡彼冰淇淋之夜 by Shconnector\n\nSep 23, 2016 (6:00 PM - 10:00 PM)(GMT+8)\n\nFor more information, click here: https://app.glueup.cn/my/events/6571
LOCATION:Green Rooftop Cafe | 木鸭梨 - 4F - 30 Sinan Rd. |静安区思南路30号4楼 Shanghai - China
BEGIN:VALARM
TRIGGER:-PT48H
REPEAT:4
DURATION:PT30M
ACTION:DISPLAY
END:VALARM
END:VEVENT
END:VCALENDAR