BEGIN:VCALENDAR
VERSION:2.0
PRODID:GlueUp
CALSCALE:GREGORIAN
BEGIN:VTIMEZONE
TZID:UTC
BEGIN:STANDARD
DTSTART:19700101T000000
TZOFFSETFROM:+0000
TZOFFSETTO:+0000
TZNAME:UTC
END:STANDARD
END:VTIMEZONE
BEGIN:VEVENT
TZ:+00
ORGANIZER;CN=Feina Zheng:MAILTO:info@jingjobs.com
UID:6256-1776800222@https://app.glueup.cn
DTSTAMP:20260421T193702Z
DTSTART:20160910T060000Z
DTEND:20160910T080000Z
SUMMARY:Starting Lean : How to Find Out if Your Business Idea has Potential in Days and not Years
DESCRIPTION:Starting Lean : How to Find Out if Your Business Idea has Potential in Days and not Years by JingJobs\n\nSep 10, 2016 (2:00 PM - 4:00 PM)(GMT+8)\n\nFor more information, click here: https://app.glueup.cn/my/events/6256
LOCATION:InnCube - 北京市朝阳区农展馆南路5号京朝大厦9层 Beijing - China
BEGIN:VALARM
TRIGGER:-PT48H
REPEAT:4
DURATION:PT30M
ACTION:DISPLAY
END:VALARM
END:VEVENT
END:VCALENDAR