BEGIN:VCALENDAR
VERSION:2.0
PRODID:GlueUp
CALSCALE:GREGORIAN
BEGIN:VTIMEZONE
TZID:UTC
BEGIN:STANDARD
DTSTART:19700101T000000
TZOFFSETFROM:+0000
TZOFFSETTO:+0000
TZNAME:UTC
END:STANDARD
END:VTIMEZONE
BEGIN:VEVENT
TZ:+00
ORGANIZER;CN=Samantha Kwok:MAILTO:info@jingjobs.com
UID:6143-1776800717@https://app.glueup.cn
DTSTAMP:20260421T194517Z
DTSTART:20160910T060000Z
DTEND:20160910T090000Z
SUMMARY:Tech, Creative & Design Job Fair & Workshop
DESCRIPTION:Tech, Creative & Design Job Fair & Workshop by JingJobs\n\nSep 10, 2016 (2:00 PM - 5:00 PM)(GMT+8)\n\nFor more information, click here: https://app.glueup.cn/my/events/6143
LOCATION:DayDayUp - 22nd Floor - Office Building C - Sanlitun SOHO - Chaoyang District - Beijing Beijing - China
BEGIN:VALARM
TRIGGER:-PT48H
REPEAT:4
DURATION:PT30M
ACTION:DISPLAY
END:VALARM
END:VEVENT
END:VCALENDAR