BEGIN:VCALENDAR
VERSION:2.0
PRODID:GlueUp
CALSCALE:GREGORIAN
BEGIN:VTIMEZONE
TZID:UTC
BEGIN:STANDARD
DTSTART:19700101T000000
TZOFFSETFROM:+0000
TZOFFSETTO:+0000
TZNAME:UTC
END:STANDARD
END:VTIMEZONE
BEGIN:VEVENT
TZ:+00
ORGANIZER;CN=Liwen Liu:MAILTO:events@shconnector.com
UID:5979-1777059346@https://app.glueup.cn
DTSTAMP:20260424T193546Z
DTSTART:20160708T103000Z
DTEND:20160708T140000Z
SUMMARY:Wine Tasting & Travel Social Networking Event | 红酒品尝暨旅游社交活动
DESCRIPTION:Wine Tasting & Travel Social Networking Event | 红酒品尝暨旅游社交活动 by Shconnector\n\nJul 8, 2016 (6:30 PM - 10:00 PM)(GMT+8)\n\nFor more information, click here: https://app.glueup.cn/my/events/5979
LOCATION:木鸭梨 - 思南路30号4楼 上海 - China
BEGIN:VALARM
TRIGGER:-PT48H
REPEAT:4
DURATION:PT30M
ACTION:DISPLAY
END:VALARM
END:VEVENT
END:VCALENDAR