BEGIN:VCALENDAR
VERSION:2.0
PRODID:GlueUp
CALSCALE:GREGORIAN
BEGIN:VTIMEZONE
TZID:UTC
BEGIN:STANDARD
DTSTART:19700101T000000
TZOFFSETFROM:+0000
TZOFFSETTO:+0000
TZNAME:UTC
END:STANDARD
END:VTIMEZONE
BEGIN:VEVENT
TZ:+00
ORGANIZER;CN=Samantha Kwok:MAILTO:info@jingjobs.com
UID:5515-1776806567@https://app.glueup.cn
DTSTAMP:20260421T212247Z
DTSTART:20160511T110000Z
DTEND:20160511T130000Z
SUMMARY:JingJobs Community Event: Salsa and Wine Tasting
DESCRIPTION:JingJobs Community Event: Salsa and Wine Tasting by JingJobs\n\nMay 11, 2016 (7:00 PM - 9:00 PM)(GMT+8)\n\nFor more information, click here: https://app.glueup.cn/my/events/5515
LOCATION:Inn Cube Coworking Space - 9/F Jing Chao Building - No. 5 NongZhanGuanNanLu - Tuanjiehu - Chaoyang District Beijing - China
BEGIN:VALARM
TRIGGER:-PT48H
REPEAT:4
DURATION:PT30M
ACTION:DISPLAY
END:VALARM
END:VEVENT
END:VCALENDAR