BEGIN:VCALENDAR
VERSION:2.0
PRODID:GlueUp
CALSCALE:GREGORIAN
BEGIN:VTIMEZONE
TZID:UTC
BEGIN:STANDARD
DTSTART:19700101T000000
TZOFFSETFROM:+0000
TZOFFSETTO:+0000
TZNAME:UTC
END:STANDARD
END:VTIMEZONE
BEGIN:VEVENT
TZ:+00
ORGANIZER;CN=Samantha Kwok:MAILTO:info@jingjobs.com
UID:5191-1776800693@https://app.glueup.cn
DTSTAMP:20260421T194453Z
DTSTART:20160323T103000Z
DTEND:20160323T124500Z
SUMMARY:The Elevator Pitch Workshop
DESCRIPTION:The Elevator Pitch Workshop by JingJobs\n\nMar 23, 2016 (6:30 PM - 8:45 PM)(GMT+8)\n\nFor more information, click here: https://app.glueup.cn/my/events/5191
LOCATION:We+ Co-working Space - Central Plaza Huang Pi North Road 227 - 黄陂北路227号中区广场1楼 Shanghai - China
BEGIN:VALARM
TRIGGER:-PT48H
REPEAT:4
DURATION:PT30M
ACTION:DISPLAY
END:VALARM
END:VEVENT
END:VCALENDAR