BEGIN:VCALENDAR
VERSION:2.0
PRODID:GlueUp
CALSCALE:GREGORIAN
BEGIN:VTIMEZONE
TZID:UTC
BEGIN:STANDARD
DTSTART:19700101T000000
TZOFFSETFROM:+0000
TZOFFSETTO:+0000
TZNAME:UTC
END:STANDARD
END:VTIMEZONE
BEGIN:VEVENT
TZ:+00
ORGANIZER;CN=Samantha Kwok:MAILTO:info@jingjobs.com
UID:5036-1776800768@https://app.glueup.cn
DTSTAMP:20260421T194608Z
DTSTART:20160312T050000Z
DTEND:20160312T091500Z
SUMMARY:Generation Y Not? Job Fair
DESCRIPTION:Generation Y Not? Job Fair by JingJobs\n\nMar 12, 2016 (1:00 PM - 5:15 PM)(GMT+8)\n\nFor more information, click here: https://app.glueup.cn/my/events/5036
LOCATION:Inn Cube Coworking Space - 9/F Jing Chao Building - No. 5 NongZhanGuanNanLu - Tuanjiehu - Chaoyang District Beijing - China
BEGIN:VALARM
TRIGGER:-PT48H
REPEAT:4
DURATION:PT30M
ACTION:DISPLAY
END:VALARM
END:VEVENT
END:VCALENDAR