BEGIN:VCALENDAR
VERSION:2.0
PRODID:GlueUp
CALSCALE:GREGORIAN
BEGIN:VTIMEZONE
TZID:UTC
BEGIN:STANDARD
DTSTART:19700101T000000
TZOFFSETFROM:+0000
TZOFFSETTO:+0000
TZNAME:UTC
END:STANDARD
END:VTIMEZONE
BEGIN:VEVENT
TZ:+00
ORGANIZER;CN=Apple Gao:MAILTO:schedule@vericant.com
UID:329-1776861844@https://app.glueup.cn
DTSTAMP:20260422T124404Z
DTSTART:20140608T060000Z
DTEND:20140608T083000Z
SUMMARY:美国寄宿高中，你准备好了吗？
DESCRIPTION:美国寄宿高中，你准备好了吗？ by Vericant\n\nJun 8, 2014 (2:00 PM - 4:30 PM)(GMT+8)\n\nFor more information, click here: https://app.glueup.cn/my/events/329
LOCATION:北京朝阳区东三环中路京广中心27层 - 北京朝阳区东三环中路京广中心27层 Beijing - China
BEGIN:VALARM
TRIGGER:-PT48H
REPEAT:4
DURATION:PT30M
ACTION:DISPLAY
END:VALARM
END:VEVENT
END:VCALENDAR