BEGIN:VCALENDAR
VERSION:2.0
PRODID:GlueUp
CALSCALE:GREGORIAN
BEGIN:VTIMEZONE
TZID:UTC
BEGIN:STANDARD
DTSTART:19700101T000000
TZOFFSETFROM:+0000
TZOFFSETTO:+0000
TZNAME:UTC
END:STANDARD
END:VTIMEZONE
BEGIN:VEVENT
TZ:+00
ORGANIZER;CN=Adebola Omololu:MAILTO:debo@afbizcham.com
UID:23767-1776990338@https://app.glueup.cn
DTSTAMP:20260424T002538Z
DTSTART:20191001T050000Z
DTEND:20191001T090000Z
SUMMARY:2nd Nigeria Cultural Show
DESCRIPTION:2nd Nigeria Cultural Show by Nigerians In Diaspora Organization (East China Chapter)\n\nOct 1, 2019 (1:00 PM - 5:00 PM)(GMT+8)\n\nFor more information, click here: https://app.glueup.cn/my/events/23767
LOCATION:Shaoxing Hotel (4F) - Hualing Road 1088 Shanghai Shi - China
BEGIN:VALARM
TRIGGER:-PT48H
REPEAT:4
DURATION:PT30M
ACTION:DISPLAY
END:VALARM
END:VEVENT
END:VCALENDAR