BEGIN:VCALENDAR
VERSION:2.0
PRODID:GlueUp
CALSCALE:GREGORIAN
BEGIN:VTIMEZONE
TZID:UTC
BEGIN:STANDARD
DTSTART:19700101T000000
TZOFFSETFROM:+0000
TZOFFSETTO:+0000
TZNAME:UTC
END:STANDARD
END:VTIMEZONE
BEGIN:VEVENT
TZ:+00
ORGANIZER;CN=Sam Pu:MAILTO:sampu@britchamswchina.org
UID:49853-1776937189@https://app.glueup.cn
DTSTAMP:20260423T093949Z
DTSTART:20260327T110000Z
DTEND:20260327T133000Z
SUMMARY:2026 UK Alumni Mixer Chongqing · Pyjamas Party
DESCRIPTION:2026 UK Alumni Mixer Chongqing · Pyjamas Party by British Chamber of Commerce Southwest China\n\nMar 27, 2026 (7:00 PM - 9:30 PM)(GMT+8)\n\nFor more information, click here: https://app.glueup.cn/my/events/49853
LOCATION:42/F SHUA  InterContinental Chongqing Raffles City  重庆来福士洲际酒店42层耍高空露台餐厅及酒吧 - No.2 Yangtze Riverside Road - Yuzhong District - Chongqing - 重庆市渝中区长江滨江路2号 Chongqing - China
BEGIN:VALARM
TRIGGER:-PT48H
REPEAT:4
DURATION:PT30M
ACTION:DISPLAY
END:VALARM
END:VEVENT
END:VCALENDAR