BEGIN:VCALENDAR
VERSION:2.0
PRODID:GlueUp
CALSCALE:GREGORIAN
BEGIN:VTIMEZONE
TZID:UTC
BEGIN:STANDARD
DTSTART:19700101T000000
TZOFFSETFROM:+0000
TZOFFSETTO:+0000
TZNAME:UTC
END:STANDARD
END:VTIMEZONE
BEGIN:VEVENT
TZ:+00
ORGANIZER;CN=Sam Pu:MAILTO:sampu@britchamswchina.org
UID:49927-1776937114@https://app.glueup.cn
DTSTAMP:20260423T093834Z
DTSTART:20260416T103000Z
DTEND:20260416T130000Z
SUMMARY:2026 Spring InterChamber Social Mixer
DESCRIPTION:2026 Spring InterChamber Social Mixer by British Chamber of Commerce Southwest China\n\nApr 16, 2026 (6:30 PM - 9:00 PM)(GMT+8)\n\nFor more information, click here: https://app.glueup.cn/my/events/49927
LOCATION:7/F, HYATT CENTRIC THE RING CHENGDU  成都光环凯悦尚萃酒店七楼 - No. 229 Tongyuan Street,Jinjiang District - Chengdu - 成都市锦江区通源街229号610065 Chengdu - Sichuan - China
BEGIN:VALARM
TRIGGER:-PT48H
REPEAT:4
DURATION:PT30M
ACTION:DISPLAY
END:VALARM
END:VEVENT
END:VCALENDAR