BEGIN:VCALENDAR
VERSION:2.0
PRODID:GlueUp
CALSCALE:GREGORIAN
BEGIN:VTIMEZONE
TZID:UTC
BEGIN:STANDARD
DTSTART:19700101T000000
TZOFFSETFROM:+0000
TZOFFSETTO:+0000
TZNAME:UTC
END:STANDARD
END:VTIMEZONE
BEGIN:VEVENT
TZ:+00
ORGANIZER;CN=Molly Liu:MAILTO:molly.liu@austcham.org
UID:49979-1776747874@https://app.glueup.cn
DTSTAMP:20260421T050434Z
DTSTART:20260405T030000Z
DTEND:20260405T060000Z
SUMMARY:2026 Easter Sunday Brunch
DESCRIPTION:2026 Easter Sunday Brunch by AustCham China\n\nApr 5, 2026 (11:00 - 14:00)(GMT+8)\n\nFor more information, click here: https://app.glueup.cn/my/events/49979
LOCATION:Hilton Chengdu - Chengdu - Sichuan - China
BEGIN:VALARM
TRIGGER:-PT48H
REPEAT:4
DURATION:PT30M
ACTION:DISPLAY
END:VALARM
END:VEVENT
END:VCALENDAR