BEGIN:VCALENDAR
VERSION:2.0
PRODID:GlueUp
CALSCALE:GREGORIAN
BEGIN:VTIMEZONE
TZID:UTC
BEGIN:STANDARD
DTSTART:19700101T000000
TZOFFSETFROM:+0000
TZOFFSETTO:+0000
TZNAME:UTC
END:STANDARD
END:VTIMEZONE
BEGIN:VEVENT
TZ:+00
ORGANIZER;CN=AustCham China Events:MAILTO:events@austcham.org
UID:50211-1776994353@https://app.glueup.cn
DTSTAMP:20260424T013233Z
DTSTART:20260525T060000Z
DTEND:20260525T070000Z
SUMMARY:2026 Australian Federal Budget Briefing
DESCRIPTION:2026 Australian Federal Budget Briefing by AustCham China\n\nMay 25, 2026 (14:00 - 15:00)(GMT+8)\n\nFor more information, click here: https://app.glueup.cn/my/events/50211
LOCATION:Hyundai Motor Tower 现代汽车大厦 - No. 38 - Xiao Yun Road - Chao Yang District - 朝阳区霄云路38号 Beijing
BEGIN:VALARM
TRIGGER:-PT48H
REPEAT:4
DURATION:PT30M
ACTION:DISPLAY
END:VALARM
END:VEVENT
END:VCALENDAR