BEGIN:VCALENDAR
VERSION:2.0
PRODID:GlueUp
CALSCALE:GREGORIAN
BEGIN:VTIMEZONE
TZID:UTC
BEGIN:STANDARD
DTSTART:19700101T000000
TZOFFSETFROM:+0000
TZOFFSETTO:+0000
TZNAME:UTC
END:STANDARD
END:VTIMEZONE
BEGIN:VEVENT
TZ:+00
ORGANIZER;CN=Info Intern:MAILTO:info@britchamswchina.org
UID:40673-1776759796@https://app.glueup.cn
DTSTAMP:20260421T082316Z
DTSTART:20230620T103000Z
DTEND:20230620T133000Z
SUMMARY:2023 Chengdu InterChamber Mixer
DESCRIPTION:2023 Chengdu InterChamber Mixer by British Chamber of Commerce Southwest China\n\nJun 20, 2023 (6:30 PM - 9:30 PM)(GMT+8)\n\nFor more information, click here: https://app.glueup.cn/my/events/40673
LOCATION:Canopy by Hilton Chengdu City Center - No. 5 - Xiyu Street - Qingyang District - Chengdu - Sichuan - China
BEGIN:VALARM
TRIGGER:-PT48H
REPEAT:4
DURATION:PT30M
ACTION:DISPLAY
END:VALARM
END:VEVENT
END:VCALENDAR