BEGIN:VCALENDAR
VERSION:2.0
PRODID:GlueUp
CALSCALE:GREGORIAN
BEGIN:VTIMEZONE
TZID:UTC
BEGIN:STANDARD
DTSTART:19700101T000000
TZOFFSETFROM:+0000
TZOFFSETTO:+0000
TZNAME:UTC
END:STANDARD
END:VTIMEZONE
BEGIN:VEVENT
TZ:+00
ORGANIZER;CN=Kevin Lu:MAILTO:kevin.lu@sydneyuniversity.cn
UID:33337-1776928013@https://app.glueup.cn
DTSTAMP:20260423T070653Z
DTSTART:20211205T010000Z
DTEND:20220228T100000Z
SUMMARY:2021年悉尼大学【职场悉引力】中国实习及校招项目
DESCRIPTION:悉尼大学中国中心发布活动2021年悉尼大学【职场悉引力】中国实习及校招项目\n\n2021 十二月 05 至 2022 2月 28(GMT+8)\n\n更多信息，访问https://app.glueup.cn/my/events/33337
LOCATION:苏州、北京、上海、广州、杭州、南京、宁波、合肥等多个城市
BEGIN:VALARM
TRIGGER:-PT48H
REPEAT:4
DURATION:PT30M
ACTION:DISPLAY
END:VALARM
END:VEVENT
END:VCALENDAR