BEGIN:VCALENDAR
VERSION:2.0
PRODID:GlueUp
CALSCALE:GREGORIAN
BEGIN:VTIMEZONE
TZID:UTC
BEGIN:STANDARD
DTSTART:19700101T000000
TZOFFSETFROM:+0000
TZOFFSETTO:+0000
TZNAME:UTC
END:STANDARD
END:VTIMEZONE
BEGIN:VEVENT
TZ:+00
ORGANIZER;CN=Kevin Lu:MAILTO:kevin.lu@sydneyuniversity.cn
UID:33560-1776922126@https://app.glueup.cn
DTSTAMP:20260423T052846Z
DTSTART:20210913T013000Z
DTEND:20210924T103000Z
SUMMARY:2021S2 PSP Week6-Week7
DESCRIPTION:悉尼大学中国中心发布活动2021S2 PSP Week6-Week7\n\n9月 13 - 24，2021(GMT+8)\n\n更多信息，访问https://app.glueup.cn/my/events/33560
LOCATION:悉尼大学中国中心 - 中国江苏省苏州市工业园区月亮湾路10号慧湖大厦A座1202
BEGIN:VALARM
TRIGGER:-PT48H
REPEAT:4
DURATION:PT30M
ACTION:DISPLAY
END:VALARM
END:VEVENT
END:VCALENDAR