BEGIN:VCALENDAR
VERSION:2.0
PRODID:GlueUp
CALSCALE:GREGORIAN
BEGIN:VTIMEZONE
TZID:UTC
BEGIN:STANDARD
DTSTART:19700101T000000
TZOFFSETFROM:+0000
TZOFFSETTO:+0000
TZNAME:UTC
END:STANDARD
END:VTIMEZONE
BEGIN:VEVENT
TZ:+00
ORGANIZER;CN=绿盟秘书:MAILTO:lvmeng@daonong.com
UID:29488-1776806647@https://app.glueup.cn
DTSTAMP:20260421T212407Z
DTSTART:20201216T010000Z
DTEND:20201216T083000Z
SUMMARY:2020中国绿公司联盟圆桌会 - 走进CPE中信产业基金
DESCRIPTION:中国企业家俱乐部发布活动2020中国绿公司联盟圆桌会 - 走进CPE中信产业基金\n\n2020年12月16日（09:00 - 16:30）(GMT+8)\n\n更多信息，访问https://app.glueup.cn/my/events/29488
LOCATION:金宝大厦 - 中国北京市金宝街 89-15层
BEGIN:VALARM
TRIGGER:-PT48H
REPEAT:4
DURATION:PT30M
ACTION:DISPLAY
END:VALARM
END:VEVENT
END:VCALENDAR