BEGIN:VCALENDAR
VERSION:2.0
PRODID:GlueUp
CALSCALE:GREGORIAN
BEGIN:VTIMEZONE
TZID:UTC
BEGIN:STANDARD
DTSTART:19700101T000000
TZOFFSETFROM:+0000
TZOFFSETTO:+0000
TZNAME:UTC
END:STANDARD
END:VTIMEZONE
BEGIN:VEVENT
TZ:+00
ORGANIZER;CN=白歌:MAILTO:baig@daonong.com
UID:25290-1776801051@https://app.glueup.cn
DTSTAMP:20260421T195051Z
DTSTART:20200927T160001Z
DTEND:20200929T160001Z
SUMMARY:2020中国绿公司年会
DESCRIPTION:中国企业家俱乐部发布活动2020中国绿公司年会\n\n9月 28 - 30，2020(GMT+8)\n\n更多信息，访问https://app.glueup.cn/my/events/25290
LOCATION:美东会堂 - 中国海南中国海南海口中国海南省海口市龙华区羊山大道39号
BEGIN:VALARM
TRIGGER:-PT48H
REPEAT:4
DURATION:PT30M
ACTION:DISPLAY
END:VALARM
END:VEVENT
END:VCALENDAR