BEGIN:VCALENDAR
VERSION:2.0
PRODID:GlueUp
CALSCALE:GREGORIAN
BEGIN:VTIMEZONE
TZID:UTC
BEGIN:STANDARD
DTSTART:19700101T000000
TZOFFSETFROM:+0000
TZOFFSETTO:+0000
TZNAME:UTC
END:STANDARD
END:VTIMEZONE
BEGIN:VEVENT
TZ:+00
ORGANIZER;CN=Alex:MAILTO:lil@daonong.com
UID:25252-1776801242@https://app.glueup.cn
DTSTAMP:20260421T195402Z
DTSTART:20200927T160001Z
DTEND:20200929T160001Z
SUMMARY:2020 中国绿公司年会                China Green Companies Summit (CGCS)
DESCRIPTION:2020 中国绿公司年会                China Green Companies Summit (CGCS) by China Entrepreneur Club\n\nSep 28 - 30, 2020(GMT+8)\n\nFor more information, click here: https://app.glueup.cn/my/events/25252
LOCATION:Ritz-Carlton Hotel - 海南省海口市龙华区羊山大道39号丽兹卡尔顿海口酒店 - No. 39 Yang Shan Boulevard - Longhua District - Long Hua - Haikou - Hainan -  - Https://www.ritzcarlton.com/zh-cn/hotels/china/haikou Haikou - Hainan Province - China
BEGIN:VALARM
TRIGGER:-PT48H
REPEAT:4
DURATION:PT30M
ACTION:DISPLAY
END:VALARM
END:VEVENT
END:VCALENDAR