BEGIN:VCALENDAR
VERSION:2.0
PRODID:GlueUp
CALSCALE:GREGORIAN
BEGIN:VTIMEZONE
TZID:UTC
BEGIN:STANDARD
DTSTART:19700101T000000
TZOFFSETFROM:+0000
TZOFFSETTO:+0000
TZNAME:UTC
END:STANDARD
END:VTIMEZONE
BEGIN:VEVENT
TZ:+00
ORGANIZER;CN=2020 IAIC:MAILTO:service@iaas.org.sg
UID:24843-1776802999@https://app.glueup.cn
DTSTAMP:20260421T202319Z
DTSTART:20201106T000000Z
DTEND:20201109T033000Z
SUMMARY:2020 International Agriculture Innovation Conference  Webinar
DESCRIPTION:2020 International Agriculture Innovation Conference  Webinar by International Association for Agricultural Sustainability\n\nNov 6 - 9, 2020(GMT+8)\n\nFor more information, click here: https://app.glueup.cn/my/events/24843
LOCATION:
BEGIN:VALARM
TRIGGER:-PT48H
REPEAT:4
DURATION:PT30M
ACTION:DISPLAY
END:VALARM
END:VEVENT
END:VCALENDAR