BEGIN:VCALENDAR
VERSION:2.0
PRODID:GlueUp
CALSCALE:GREGORIAN
BEGIN:VTIMEZONE
TZID:UTC
BEGIN:STANDARD
DTSTART:19700101T000000
TZOFFSETFROM:+0000
TZOFFSETTO:+0000
TZNAME:UTC
END:STANDARD
END:VTIMEZONE
BEGIN:VEVENT
TZ:+00
ORGANIZER;CN=Alex:MAILTO:alex@daonong.com
UID:25147-1776812327@https://app.glueup.cn
DTSTAMP:20260421T225847Z
DTSTART:20200109T160001Z
DTEND:20200109T160001Z
SUMMARY:2020 Daonong Gala
DESCRIPTION:中国企业家俱乐部发布活动2020 Daonong Gala\n\n2020年01月10日(GMT+8)\n\n更多信息，访问https://app.glueup.cn/my/events/25147
LOCATION:Beijing Time Museum - No. 298 - Guloudong Avenue - Dongcheng District Beijing - 中国
BEGIN:VALARM
TRIGGER:-PT48H
REPEAT:4
DURATION:PT30M
ACTION:DISPLAY
END:VALARM
END:VEVENT
END:VCALENDAR