BEGIN:VCALENDAR
VERSION:2.0
PRODID:GlueUp
CALSCALE:GREGORIAN
BEGIN:VTIMEZONE
TZID:UTC
BEGIN:STANDARD
DTSTART:19700101T000000
TZOFFSETFROM:+0000
TZOFFSETTO:+0000
TZNAME:UTC
END:STANDARD
END:VTIMEZONE
BEGIN:VEVENT
TZ:+00
ORGANIZER;CN=冯嘉雪:MAILTO:fengjx@daonong.com
UID:22069-1776807052@https://app.glueup.cn
DTSTAMP:20260421T213052Z
DTSTART:20190604T070000Z
DTEND:20190605T080000Z
SUMMARY:2019理事互访-泰康站
DESCRIPTION:中国企业家俱乐部发布活动2019理事互访-泰康站\n\n2019年06月04日，2019年06月05日(GMT+8)\n\n更多信息，访问https://app.glueup.cn/my/events/22069
LOCATION:北京市东城区王府井大街1号 嘉德艺术中心
BEGIN:VALARM
TRIGGER:-PT48H
REPEAT:4
DURATION:PT30M
ACTION:DISPLAY
END:VALARM
END:VEVENT
END:VCALENDAR