BEGIN:VCALENDAR
VERSION:2.0
PRODID:GlueUp
CALSCALE:GREGORIAN
BEGIN:VTIMEZONE
TZID:UTC
BEGIN:STANDARD
DTSTART:19700101T000000
TZOFFSETFROM:+0000
TZOFFSETTO:+0000
TZNAME:UTC
END:STANDARD
END:VTIMEZONE
BEGIN:VEVENT
TZ:+00
ORGANIZER;CN=陈曦:MAILTO:chenx@daonong.com
UID:24290-1776801156@https://app.glueup.cn
DTSTAMP:20260421T195236Z
DTSTART:20191217T110000Z
DTEND:20191219T150000Z
SUMMARY:2019中国企业家高尔夫球队年终总决赛
DESCRIPTION:中国企业家俱乐部发布活动2019中国企业家高尔夫球队年终总决赛\n\n十二月 17 - 19，2019(GMT+7)\n\n更多信息，访问https://app.glueup.cn/my/events/24290
LOCATION:曼谷 - 泰国曼谷都会区曼谷
BEGIN:VALARM
TRIGGER:-PT48H
REPEAT:4
DURATION:PT30M
ACTION:DISPLAY
END:VALARM
END:VEVENT
END:VCALENDAR