BEGIN:VCALENDAR
VERSION:2.0
PRODID:GlueUp
CALSCALE:GREGORIAN
BEGIN:VTIMEZONE
TZID:UTC
BEGIN:STANDARD
DTSTART:19700101T000000
TZOFFSETFROM:+0000
TZOFFSETTO:+0000
TZNAME:UTC
END:STANDARD
END:VTIMEZONE
BEGIN:VEVENT
TZ:+00
ORGANIZER;CN=郝斯琦:MAILTO:haosq@daonong.com
UID:24504-1776801174@https://app.glueup.cn
DTSTAMP:20260421T195254Z
DTSTART:20191112T160001Z
DTEND:20191114T160001Z
SUMMARY:2019“特地负离子瓷砖·道农杯”中国企业家高尔夫球队广东兄弟情邀请赛
DESCRIPTION:中国企业家俱乐部发布活动2019“特地负离子瓷砖·道农杯”中国企业家高尔夫球队广东兄弟情邀请赛\n\n11月 13 - 15，2019(GMT+8)\n\n更多信息，访问https://app.glueup.cn/my/events/24504
LOCATION:佛山市 - 中国广东省佛山市酒店：佛山希尔顿酒店
BEGIN:VALARM
TRIGGER:-PT48H
REPEAT:4
DURATION:PT30M
ACTION:DISPLAY
END:VALARM
END:VEVENT
END:VCALENDAR